BEGIN:VCALENDAR
VERSION:2.0
PRODID:-//Baseball.be | Sharks Tongeren - ECPv6.15.20//NONSGML v1.0//EN
CALSCALE:GREGORIAN
METHOD:PUBLISH
X-WR-CALNAME:Baseball.be | Sharks Tongeren
X-ORIGINAL-URL:https://baseball.be
X-WR-CALDESC:Evenementen voor Baseball.be | Sharks Tongeren
REFRESH-INTERVAL;VALUE=DURATION:PT1H
X-Robots-Tag:noindex
X-PUBLISHED-TTL:PT1H
BEGIN:VTIMEZONE
TZID:Europe/Brussels
BEGIN:DAYLIGHT
TZOFFSETFROM:+0100
TZOFFSETTO:+0200
TZNAME:CEST
DTSTART:20230326T010000
END:DAYLIGHT
BEGIN:STANDARD
TZOFFSETFROM:+0200
TZOFFSETTO:+0100
TZNAME:CET
DTSTART:20231029T010000
END:STANDARD
BEGIN:DAYLIGHT
TZOFFSETFROM:+0100
TZOFFSETTO:+0200
TZNAME:CEST
DTSTART:20240331T010000
END:DAYLIGHT
BEGIN:STANDARD
TZOFFSETFROM:+0200
TZOFFSETTO:+0100
TZNAME:CET
DTSTART:20241027T010000
END:STANDARD
BEGIN:DAYLIGHT
TZOFFSETFROM:+0100
TZOFFSETTO:+0200
TZNAME:CEST
DTSTART:20250330T010000
END:DAYLIGHT
BEGIN:STANDARD
TZOFFSETFROM:+0200
TZOFFSETTO:+0100
TZNAME:CET
DTSTART:20251026T010000
END:STANDARD
END:VTIMEZONE
BEGIN:VEVENT
DTSTART;VALUE=DATE:20240818
DTEND;VALUE=DATE:20240819
DTSTAMP:20260425T224358
CREATED:20240306T211916Z
LAST-MODIFIED:20240327T141645Z
UID:205820-1723939200-1724025599@baseball.be
SUMMARY:Sharks - No Gameday
DESCRIPTION:Sharks – No Gameday
URL:https://baseball.be/event/sharks-no-gameday-6/
LOCATION:Sharks Tongeren\, Klein veldje 1\, Tongeren\, Limburg\, 3700\, België
CATEGORIES:No Gameday
ATTACH;FMTTYPE=image/webp:https://baseball.be/wp-content/uploads/2024/03/No-game-e1709754959110.webp
ORGANIZER;CN="Sharks Tongeren":MAILTO:info@sharks.be
END:VEVENT
BEGIN:VEVENT
DTSTART;VALUE=DATE:20240804
DTEND;VALUE=DATE:20240805
DTSTAMP:20260425T224358
CREATED:20240306T211603Z
LAST-MODIFIED:20240327T082351Z
UID:205815-1722729600-1722815999@baseball.be
SUMMARY:Sharks - No Gameday
DESCRIPTION:Sharks – No Gameday
URL:https://baseball.be/event/sharks-no-gameday-5/
LOCATION:Sharks Tongeren\, Klein veldje 1\, Tongeren\, Limburg\, 3700\, België
CATEGORIES:No Gameday
ATTACH;FMTTYPE=image/webp:https://baseball.be/wp-content/uploads/2024/03/No-game-e1709754959110.webp
ORGANIZER;CN="Sharks Tongeren":MAILTO:info@sharks.be
END:VEVENT
BEGIN:VEVENT
DTSTART;VALUE=DATE:20240728
DTEND;VALUE=DATE:20240729
DTSTAMP:20260425T224358
CREATED:20240306T211513Z
LAST-MODIFIED:20240327T141955Z
UID:205811-1722124800-1722211199@baseball.be
SUMMARY:Sharks - No Gameday
DESCRIPTION:Sharks – No Gameday
URL:https://baseball.be/event/sharks-no-gameday-4/
LOCATION:Sharks Tongeren\, Klein veldje 1\, Tongeren\, Limburg\, 3700\, België
CATEGORIES:No Gameday
ATTACH;FMTTYPE=image/webp:https://baseball.be/wp-content/uploads/2024/03/No-game-e1709754959110.webp
ORGANIZER;CN="Sharks Tongeren":MAILTO:info@sharks.be
END:VEVENT
BEGIN:VEVENT
DTSTART;VALUE=DATE:20240714
DTEND;VALUE=DATE:20240715
DTSTAMP:20260425T224358
CREATED:20240306T211449Z
LAST-MODIFIED:20240708T071549Z
UID:205812-1720915200-1721001599@baseball.be
SUMMARY:Sharks - No Gameday
DESCRIPTION:Sharks – No Gameday
URL:https://baseball.be/event/sharks-no-gameday-3/
LOCATION:Sharks Tongeren\, Klein veldje 1\, Tongeren\, Limburg\, 3700\, België
CATEGORIES:No Gameday
ATTACH;FMTTYPE=image/webp:https://baseball.be/wp-content/uploads/2024/03/No-game-e1709754959110.webp
ORGANIZER;CN="Sharks Tongeren":MAILTO:info@sharks.be
END:VEVENT
BEGIN:VEVENT
DTSTART;VALUE=DATE:20240616
DTEND;VALUE=DATE:20240617
DTSTAMP:20260425T224358
CREATED:20240306T211355Z
LAST-MODIFIED:20240605T143203Z
UID:205809-1718496000-1718582399@baseball.be
SUMMARY:Sharks - No Gameday
DESCRIPTION:Sharks – No Gameday
URL:https://baseball.be/event/sharks-no-gameday-2/
LOCATION:Sharks Tongeren\, Klein veldje 1\, Tongeren\, Limburg\, 3700\, België
CATEGORIES:No Gameday
ATTACH;FMTTYPE=image/webp:https://baseball.be/wp-content/uploads/2024/03/No-game-e1709754959110.webp
ORGANIZER;CN="Sharks Tongeren":MAILTO:info@sharks.be
END:VEVENT
BEGIN:VEVENT
DTSTART;VALUE=DATE:20240519
DTEND;VALUE=DATE:20240520
DTSTAMP:20260425T224358
CREATED:20240306T205637Z
LAST-MODIFIED:20240327T135247Z
UID:205788-1716076800-1716163199@baseball.be
SUMMARY:Sharks - No Gameday
DESCRIPTION:Sharks – No Gameday
URL:https://baseball.be/event/sharks-no-gameday/
LOCATION:Sharks Tongeren\, Klein veldje 1\, Tongeren\, Limburg\, 3700\, België
CATEGORIES:No Gameday
ATTACH;FMTTYPE=image/webp:https://baseball.be/wp-content/uploads/2024/03/No-game-e1709754959110.webp
ORGANIZER;CN="Sharks Tongeren":MAILTO:info@sharks.be
END:VEVENT
END:VCALENDAR