BEGIN:VCALENDAR
VERSION:2.0
PRODID:-//Baseball.be | Sharks Tongeren - ECPv6.15.20//NONSGML v1.0//EN
CALSCALE:GREGORIAN
METHOD:PUBLISH
X-WR-CALNAME:Baseball.be | Sharks Tongeren
X-ORIGINAL-URL:https://baseball.be
X-WR-CALDESC:Evenementen voor Baseball.be | Sharks Tongeren
REFRESH-INTERVAL;VALUE=DURATION:PT1H
X-Robots-Tag:noindex
X-PUBLISHED-TTL:PT1H
BEGIN:VTIMEZONE
TZID:Europe/Brussels
BEGIN:DAYLIGHT
TZOFFSETFROM:+0100
TZOFFSETTO:+0200
TZNAME:CEST
DTSTART:20230326T010000
END:DAYLIGHT
BEGIN:STANDARD
TZOFFSETFROM:+0200
TZOFFSETTO:+0100
TZNAME:CET
DTSTART:20231029T010000
END:STANDARD
BEGIN:DAYLIGHT
TZOFFSETFROM:+0100
TZOFFSETTO:+0200
TZNAME:CEST
DTSTART:20240331T010000
END:DAYLIGHT
BEGIN:STANDARD
TZOFFSETFROM:+0200
TZOFFSETTO:+0100
TZNAME:CET
DTSTART:20241027T010000
END:STANDARD
BEGIN:DAYLIGHT
TZOFFSETFROM:+0100
TZOFFSETTO:+0200
TZNAME:CEST
DTSTART:20250330T010000
END:DAYLIGHT
BEGIN:STANDARD
TZOFFSETFROM:+0200
TZOFFSETTO:+0100
TZNAME:CET
DTSTART:20251026T010000
END:STANDARD
BEGIN:DAYLIGHT
TZOFFSETFROM:+0100
TZOFFSETTO:+0200
TZNAME:CEST
DTSTART:20260329T010000
END:DAYLIGHT
BEGIN:STANDARD
TZOFFSETFROM:+0200
TZOFFSETTO:+0100
TZNAME:CET
DTSTART:20261025T010000
END:STANDARD
BEGIN:DAYLIGHT
TZOFFSETFROM:+0100
TZOFFSETTO:+0200
TZNAME:CEST
DTSTART:20270328T010000
END:DAYLIGHT
BEGIN:STANDARD
TZOFFSETFROM:+0200
TZOFFSETTO:+0100
TZNAME:CET
DTSTART:20271031T010000
END:STANDARD
END:VTIMEZONE
BEGIN:VEVENT
DTSTART;TZID=Europe/Brussels:20260419T110000
DTEND;TZID=Europe/Brussels:20260419T133000
DTSTAMP:20260425T164217
CREATED:20260316T215546Z
LAST-MODIFIED:20260316T215547Z
UID:206669-1776596400-1776605400@baseball.be
SUMMARY:Sittard Condors - SHARKS
DESCRIPTION:
URL:https://baseball.be/event/sittard-condors-sharks-3/
LOCATION:Sittard Condors\, Sportpark Limbricht\, Limbricht\, Nederland
CATEGORIES:Uit Wedstrijden
ATTACH;FMTTYPE=image/webp:https://baseball.be/wp-content/uploads/2024/03/competition2-e1709664655541.webp
END:VEVENT
BEGIN:VEVENT
DTSTART;TZID=Europe/Brussels:20260412T120000
DTEND;TZID=Europe/Brussels:20260412T143000
DTSTAMP:20260425T164217
CREATED:20260316T215433Z
LAST-MODIFIED:20260316T215433Z
UID:206667-1775995200-1776004200@baseball.be
SUMMARY:Parkstad Lions - SHARKS
DESCRIPTION:
URL:https://baseball.be/event/parkstad-lions-sharks-4/
LOCATION:Parkstad Lions\, Sportpark De Vaerenbeuk\, Heerlen\, Nederland
CATEGORIES:Uit Wedstrijden
ATTACH;FMTTYPE=image/webp:https://baseball.be/wp-content/uploads/2024/03/competition2-e1709664655541.webp
END:VEVENT
BEGIN:VEVENT
DTSTART;TZID=Europe/Brussels:20260406T133000
DTEND;TZID=Europe/Brussels:20260406T160000
DTSTAMP:20260425T164217
CREATED:20260324T095617Z
LAST-MODIFIED:20260324T095617Z
UID:206697-1775482200-1775491200@baseball.be
SUMMARY:Oefenwedstrijd : SHARKS - Titans Olen
DESCRIPTION:Merch & Food\n \nFrisdrank en hot-dogs for sale!
URL:https://baseball.be/event/oefenwedstrijd-sharks-titans-olen-2/
LOCATION:Sharks Tongeren\, Klein veldje 1\, Tongeren\, Limburg\, 3700\, België
CATEGORIES:Oefenwedstrijd,Thuis Wedstrijden
ATTACH;FMTTYPE=image/webp:https://baseball.be/wp-content/uploads/2024/03/competition2-e1709664655541.webp
ORGANIZER;CN="Sharks Tongeren":MAILTO:info@sharks.be
END:VEVENT
BEGIN:VEVENT
DTSTART;TZID=Europe/Brussels:20260328T100000
DTEND;TZID=Europe/Brussels:20260328T180000
DTSTAMP:20260425T164217
CREATED:20251119T104335Z
LAST-MODIFIED:20260309T144633Z
UID:206589-1774692000-1774720800@baseball.be
SUMMARY:Sharks Toernooi (thuis) : Heist op den Berg Afterburners - Leuven Twins- Limburg White Sox - SHARKS
DESCRIPTION:Speelschema (Wedstrijden 45 min –  60 min max) \n\n10h00 : White Sox – Heist\n             (Umpire : Sharks)\n\n11h15 : Leuven – Sharks\n            (Umpire : White Sox)\n\n12h30 : White Sox – Leuven\n             (Umpire : Sharks)\n\n13h45 : Heist – Sharks\n             (Umpire : Leuven)\n\n15h00 : Sharks –  White Sox\n             (Umpire : Heist)\n\n16h15 : Heist – Leuven\n             (Umpire : Sharks)\n\n18h00 : Start of the ‘after’ …\n\n\nMerch\, drinks and hot-dogs available !
URL:https://baseball.be/event/sharks-toernooi-thuis-sharks/
LOCATION:Sharks Tongeren\, Klein veldje 1\, Tongeren\, Limburg\, 3700\, België
CATEGORIES:Thuis Wedstrijden,Toernooi
ATTACH;FMTTYPE=image/webp:https://baseball.be/wp-content/uploads/2024/03/tournament-1-e1709666011354.webp
ORGANIZER;CN="Sharks Tongeren":MAILTO:info@sharks.be
END:VEVENT
BEGIN:VEVENT
DTSTART;TZID=Europe/Brussels:20260322T100000
DTEND;TZID=Europe/Brussels:20260322T180000
DTSTAMP:20260425T164217
CREATED:20251119T104159Z
LAST-MODIFIED:20260309T144404Z
UID:206587-1774173600-1774202400@baseball.be
SUMMARY:Sharks Toernooi (thuis) : Namur Angels D2 - Brown Boys Seraing - Titans Olen - SHARKS
DESCRIPTION:Speelschema (Wedstrijden 45 min –  60 min max) \n\n10h00 : Seraing – Namur\n             (Umpire : Sharks)\n\n11h15 : Titans – Sharks\n            (Umpire : Seraing)\n\n12h30 : Seraing – Titans\n             (Umpire : Sharks)\n\n13h45 : Namur – Sharks\n             (Umpire : Titans)\n\n15h00 : Sharks – Seraing\n             (Umpire : Namur)\n\n16h15 : Namur – Titans\n             (Umpire : Sharks)\n\n18h00 : Start of the ‘after’ …\n\n\nMerch\, drinks and hot-dogs available !
URL:https://baseball.be/event/sharks-toernooi-thuis-namur-d2-seraing-sharks/
LOCATION:Sharks Tongeren\, Klein veldje 1\, Tongeren\, Limburg\, 3700\, België
CATEGORIES:Thuis Wedstrijden,Toernooi
ATTACH;FMTTYPE=image/webp:https://baseball.be/wp-content/uploads/2024/03/tournament-1-e1709666011354.webp
ORGANIZER;CN="Sharks Tongeren":MAILTO:info@sharks.be
END:VEVENT
BEGIN:VEVENT
DTSTART;TZID=Europe/Brussels:20260308T220000
DTEND;TZID=Europe/Brussels:20260308T220000
DTSTAMP:20260425T164217
CREATED:20251122T171640Z
LAST-MODIFIED:20251122T171950Z
UID:206608-1773007200-1773007200@baseball.be
SUMMARY:Oefenwedstrijd in Zonhoven : Sunville Tigers - SHARKS
DESCRIPTION:Uur en indeling nog te bepalen.  Oefenwedstrijd of 3-kamp ?
URL:https://baseball.be/event/oefenwedstrijd-in-zonhoven-sunville-tigers-sharks/
LOCATION:Sunville Tigers\, Kleebergweg 26\, Zonhoven\, 3520\, België
CATEGORIES:Oefenwedstrijd,Uit Wedstrijden
ATTACH;FMTTYPE=image/webp:https://baseball.be/wp-content/uploads/2024/03/tournament-1-e1709666011354.webp
END:VEVENT
BEGIN:VEVENT
DTSTART;TZID=Europe/Brussels:20251005T133000
DTEND;TZID=Europe/Brussels:20251005T160000
DTSTAMP:20260425T164217
CREATED:20250312T084352Z
LAST-MODIFIED:20250813T131256Z
UID:206468-1759671000-1759680000@baseball.be
SUMMARY:SHARKS - Cheetahs H2
DESCRIPTION:Merch & Food\n \nFrisdrank en hot-dogs for sale!
URL:https://baseball.be/event/sharks-cheetahs-h2-3/
LOCATION:Sharks Tongeren\, Klein veldje 1\, Tongeren\, Limburg\, 3700\, België
CATEGORIES:Thuis Wedstrijden
ATTACH;FMTTYPE=image/webp:https://baseball.be/wp-content/uploads/2024/03/competition2-e1709664655541.webp
ORGANIZER;CN="Sharks Tongeren":MAILTO:info@sharks.be
END:VEVENT
BEGIN:VEVENT
DTSTART;TZID=Europe/Brussels:20250928T120000
DTEND;TZID=Europe/Brussels:20250928T143000
DTSTAMP:20260425T164217
CREATED:20250312T084858Z
LAST-MODIFIED:20250312T084858Z
UID:206477-1759060800-1759069800@baseball.be
SUMMARY:Parkstad Lions - SHARKS
DESCRIPTION:
URL:https://baseball.be/event/parkstad-lions-sharks-3/
LOCATION:Parkstad Lions\, Sportpark De Vaerenbeuk\, Heerlen\, Nederland
CATEGORIES:Uit Wedstrijden
ATTACH;FMTTYPE=image/webp:https://baseball.be/wp-content/uploads/2024/03/competition2-e1709664655541.webp
END:VEVENT
BEGIN:VEVENT
DTSTART;TZID=Europe/Brussels:20250921T133000
DTEND;TZID=Europe/Brussels:20250921T160000
DTSTAMP:20260425T164217
CREATED:20250312T084757Z
LAST-MODIFIED:20250312T084757Z
UID:206475-1758461400-1758470400@baseball.be
SUMMARY:SHARKS - Sittard Condors
DESCRIPTION:Merch & Food\n \nFrisdrank en hot-dogs for sale!
URL:https://baseball.be/event/sharks-sittard-condors-3/
LOCATION:Sharks Tongeren\, Klein veldje 1\, Tongeren\, Limburg\, 3700\, België
CATEGORIES:Thuis Wedstrijden
ATTACH;FMTTYPE=image/webp:https://baseball.be/wp-content/uploads/2024/03/competition2-e1709664655541.webp
ORGANIZER;CN="Sharks Tongeren":MAILTO:info@sharks.be
END:VEVENT
BEGIN:VEVENT
DTSTART;TZID=Europe/Brussels:20250914T133000
DTEND;TZID=Europe/Brussels:20250914T160000
DTSTAMP:20260425T164217
CREATED:20250312T084716Z
LAST-MODIFIED:20250312T084716Z
UID:206472-1757856600-1757865600@baseball.be
SUMMARY:SHARKS - Limburg White Sox
DESCRIPTION:Merch & Food\n \nFrisdrank en hot-dogs for sale!
URL:https://baseball.be/event/sharks-limburg-white-sox-3/
LOCATION:Sharks Tongeren\, Klein veldje 1\, Tongeren\, Limburg\, 3700\, België
CATEGORIES:Thuis Wedstrijden
ATTACH;FMTTYPE=image/webp:https://baseball.be/wp-content/uploads/2024/03/competition2-e1709664655541.webp
ORGANIZER;CN="Sharks Tongeren":MAILTO:info@sharks.be
END:VEVENT
BEGIN:VEVENT
DTSTART;TZID=Europe/Brussels:20250907T110000
DTEND;TZID=Europe/Brussels:20250907T133000
DTSTAMP:20260425T164217
CREATED:20250312T084505Z
LAST-MODIFIED:20250312T084505Z
UID:206470-1757242800-1757251800@baseball.be
SUMMARY:Sunville Tigers - SHARKS
DESCRIPTION:
URL:https://baseball.be/event/sunville-tigers-sharks-3/
LOCATION:Sunville Tigers\, Kleebergweg 26\, Zonhoven\, 3520\, België
CATEGORIES:Uit Wedstrijden
ATTACH;FMTTYPE=image/webp:https://baseball.be/wp-content/uploads/2024/03/competition2-e1709664655541.webp
ORGANIZER;CN="Sharks Tongeren":MAILTO:info@sharks.be
END:VEVENT
BEGIN:VEVENT
DTSTART;TZID=Europe/Brussels:20250831T140000
DTEND;TZID=Europe/Brussels:20250831T163000
DTSTAMP:20260425T164217
CREATED:20250813T131415Z
LAST-MODIFIED:20250813T131425Z
UID:206540-1756648800-1756657800@baseball.be
SUMMARY:Oefenwedstrijd : SHARKS - Titans Olen
DESCRIPTION:Merch & Food\n \nFrisdrank en hot-dogs for sale!
URL:https://baseball.be/event/oefenwedstrijd-sharks-titans-olen/
LOCATION:Sharks Tongeren\, Klein veldje 1\, Tongeren\, Limburg\, 3700\, België
CATEGORIES:Oefenwedstrijd,Thuis Wedstrijden
ATTACH;FMTTYPE=image/webp:https://baseball.be/wp-content/uploads/2024/03/competition2-e1709664655541.webp
ORGANIZER;CN="Sharks Tongeren":MAILTO:info@sharks.be
END:VEVENT
BEGIN:VEVENT
DTSTART;TZID=Europe/Brussels:20250706T103000
DTEND;TZID=Europe/Brussels:20250706T130000
DTSTAMP:20260425T164217
CREATED:20250312T084305Z
LAST-MODIFIED:20250312T084305Z
UID:206466-1751797800-1751806800@baseball.be
SUMMARY:Cheetahs H2 - SHARKS
DESCRIPTION:
URL:https://baseball.be/event/cheetahs-h2-sharks-2/
LOCATION:Cheetahs Beek\, Sportlaan\, Beek\, Nederland
CATEGORIES:Uit Wedstrijden
ATTACH;FMTTYPE=image/webp:https://baseball.be/wp-content/uploads/2024/03/competition2-e1709664655541.webp
END:VEVENT
BEGIN:VEVENT
DTSTART;TZID=Europe/Brussels:20250629T133000
DTEND;TZID=Europe/Brussels:20250629T160000
DTSTAMP:20260425T164217
CREATED:20250312T084202Z
LAST-MODIFIED:20250312T084202Z
UID:206464-1751203800-1751212800@baseball.be
SUMMARY:SHARKS - Parkstad Lions
DESCRIPTION:Merch & Food\n \nFrisdrank en hot-dogs for sale!
URL:https://baseball.be/event/sharks-parkstad-lions-2/
LOCATION:Sharks Tongeren\, Klein veldje 1\, Tongeren\, Limburg\, 3700\, België
CATEGORIES:Thuis Wedstrijden
ATTACH;FMTTYPE=image/webp:https://baseball.be/wp-content/uploads/2024/03/competition2-e1709664655541.webp
ORGANIZER;CN="Sharks Tongeren":MAILTO:info@sharks.be
END:VEVENT
BEGIN:VEVENT
DTSTART;TZID=Europe/Brussels:20250622T110000
DTEND;TZID=Europe/Brussels:20250622T133000
DTSTAMP:20260425T164217
CREATED:20250312T084059Z
LAST-MODIFIED:20250312T084059Z
UID:206462-1750590000-1750599000@baseball.be
SUMMARY:Sittard Condors - SHARKS
DESCRIPTION:
URL:https://baseball.be/event/sittard-condors-sharks-2/
LOCATION:Sittard Condors\, Sportpark Limbricht\, Limbricht\, Nederland
CATEGORIES:Uit Wedstrijden
ATTACH;FMTTYPE=image/webp:https://baseball.be/wp-content/uploads/2024/03/competition2-e1709664655541.webp
END:VEVENT
BEGIN:VEVENT
DTSTART;TZID=Europe/Brussels:20250615T133000
DTEND;TZID=Europe/Brussels:20250615T160000
DTSTAMP:20260425T164217
CREATED:20250312T084000Z
LAST-MODIFIED:20250312T084000Z
UID:206460-1749994200-1750003200@baseball.be
SUMMARY:SHARKS - Sittard Condors
DESCRIPTION:Merch & Food\n \nFrisdrank en hot-dogs for sale!
URL:https://baseball.be/event/sharks-sittard-condors-2/
LOCATION:Sharks Tongeren\, Klein veldje 1\, Tongeren\, Limburg\, 3700\, België
CATEGORIES:Thuis Wedstrijden
ATTACH;FMTTYPE=image/webp:https://baseball.be/wp-content/uploads/2024/03/competition2-e1709664655541.webp
ORGANIZER;CN="Sharks Tongeren":MAILTO:info@sharks.be
END:VEVENT
BEGIN:VEVENT
DTSTART;TZID=Europe/Brussels:20250607T170000
DTEND;TZID=Europe/Brussels:20250607T233000
DTSTAMP:20260425T164217
CREATED:20250331T102955Z
LAST-MODIFIED:20250331T102955Z
UID:206524-1749315600-1749339000@baseball.be
SUMMARY:SHARKS - Oldies activiteit
DESCRIPTION:Merch & Food\n \nFrisdrank en hot-dogs for sale!
URL:https://baseball.be/event/sharks-oldies-activiteit/
LOCATION:Sharks Tongeren\, Klein veldje 1\, Tongeren\, Limburg\, 3700\, België
CATEGORIES:Oefenwedstrijd,Thuis Wedstrijden
ATTACH;FMTTYPE=image/webp:https://baseball.be/wp-content/uploads/2024/03/competition2-e1709664655541.webp
ORGANIZER;CN="Sharks Tongeren":MAILTO:info@sharks.be
END:VEVENT
BEGIN:VEVENT
DTSTART;TZID=Europe/Brussels:20250601T110000
DTEND;TZID=Europe/Brussels:20250601T133000
DTSTAMP:20260425T164217
CREATED:20250312T083851Z
LAST-MODIFIED:20250312T083851Z
UID:206458-1748775600-1748784600@baseball.be
SUMMARY:Limburg White Sox - SHARKS
DESCRIPTION:
URL:https://baseball.be/event/limburg-white-sox-sharks-2/
LOCATION:Limburg White Sox\, Hortensiastraat\, Genk
CATEGORIES:Uit Wedstrijden
ATTACH;FMTTYPE=image/webp:https://baseball.be/wp-content/uploads/2024/03/competition2-e1709664655541.webp
END:VEVENT
BEGIN:VEVENT
DTSTART;TZID=Europe/Brussels:20250525T133000
DTEND;TZID=Europe/Brussels:20250525T160000
DTSTAMP:20260425T164217
CREATED:20250312T083738Z
LAST-MODIFIED:20250312T083738Z
UID:206456-1748179800-1748188800@baseball.be
SUMMARY:SHARKS - Sunville Tigers
DESCRIPTION:Merch & Food\n \nFrisdrank en hot-dogs for sale!
URL:https://baseball.be/event/sharks-sunville-tigers-2/
LOCATION:Sharks Tongeren\, Klein veldje 1\, Tongeren\, Limburg\, 3700\, België
CATEGORIES:Thuis Wedstrijden
ATTACH;FMTTYPE=image/webp:https://baseball.be/wp-content/uploads/2024/03/competition2-e1709664655541.webp
ORGANIZER;CN="Sharks Tongeren":MAILTO:info@sharks.be
END:VEVENT
BEGIN:VEVENT
DTSTART;TZID=Europe/Brussels:20250518T133000
DTEND;TZID=Europe/Brussels:20250518T160000
DTSTAMP:20260425T164217
CREATED:20250312T083634Z
LAST-MODIFIED:20250312T083634Z
UID:206454-1747575000-1747584000@baseball.be
SUMMARY:SHARKS - Cheetahs H2
DESCRIPTION:Merch & Food\n \nFrisdrank en hot-dogs for sale!
URL:https://baseball.be/event/sharks-cheetahs-h2-2/
LOCATION:Sharks Tongeren\, Klein veldje 1\, Tongeren\, Limburg\, 3700\, België
CATEGORIES:Thuis Wedstrijden
ATTACH;FMTTYPE=image/webp:https://baseball.be/wp-content/uploads/2024/03/competition2-e1709664655541.webp
ORGANIZER;CN="Sharks Tongeren":MAILTO:info@sharks.be
END:VEVENT
BEGIN:VEVENT
DTSTART;TZID=Europe/Brussels:20250511T120000
DTEND;TZID=Europe/Brussels:20250511T143000
DTSTAMP:20260425T164217
CREATED:20250310T223050Z
LAST-MODIFIED:20250310T223050Z
UID:206446-1746964800-1746973800@baseball.be
SUMMARY:Parkstad Lions - SHARKS
DESCRIPTION:
URL:https://baseball.be/event/parkstad-lions-sharks-2/
LOCATION:Parkstad Lions\, Sportpark De Vaerenbeuk\, Heerlen\, Nederland
CATEGORIES:Uit Wedstrijden
ATTACH;FMTTYPE=image/webp:https://baseball.be/wp-content/uploads/2024/03/competition2-e1709664655541.webp
END:VEVENT
BEGIN:VEVENT
DTSTART;TZID=Europe/Brussels:20250504T110000
DTEND;TZID=Europe/Brussels:20250504T133000
DTSTAMP:20260425T164217
CREATED:20250310T222913Z
LAST-MODIFIED:20250310T222913Z
UID:206444-1746356400-1746365400@baseball.be
SUMMARY:Sunville Tigers - SHARKS
DESCRIPTION:
URL:https://baseball.be/event/sunville-tigers-sharks-2/
LOCATION:Sunville Tigers\, Kleebergweg 26\, Zonhoven\, 3520\, België
CATEGORIES:Uit Wedstrijden
ATTACH;FMTTYPE=image/webp:https://baseball.be/wp-content/uploads/2024/03/competition2-e1709664655541.webp
ORGANIZER;CN="Sharks Tongeren":MAILTO:info@sharks.be
END:VEVENT
BEGIN:VEVENT
DTSTART;TZID=Europe/Brussels:20250427T133000
DTEND;TZID=Europe/Brussels:20250427T160000
DTSTAMP:20260425T164217
CREATED:20250310T222631Z
LAST-MODIFIED:20250310T222631Z
UID:206441-1745760600-1745769600@baseball.be
SUMMARY:SHARKS - Limburg White Sox
DESCRIPTION:Merch & Food\n \nFrisdrank en hot-dogs for sale!
URL:https://baseball.be/event/sharks-limburg-white-sox-2/
LOCATION:Sharks Tongeren\, Klein veldje 1\, Tongeren\, Limburg\, 3700\, België
CATEGORIES:Thuis Wedstrijden
ATTACH;FMTTYPE=image/webp:https://baseball.be/wp-content/uploads/2024/03/competition2-e1709664655541.webp
ORGANIZER;CN="Sharks Tongeren":MAILTO:info@sharks.be
END:VEVENT
BEGIN:VEVENT
DTSTART;TZID=Europe/Brussels:20250406T110000
DTEND;TZID=Europe/Brussels:20250406T133000
DTSTAMP:20260425T164217
CREATED:20250331T102609Z
LAST-MODIFIED:20250331T102650Z
UID:206522-1743937200-1743946200@baseball.be
SUMMARY:Oefenwedstrijd : Sunville Tigers - SHARKS
DESCRIPTION:
URL:https://baseball.be/event/oefenwedstrijd-sunville-tigers-sharks/
LOCATION:Sunville Tigers\, Kleebergweg 26\, Zonhoven\, 3520\, België
CATEGORIES:Oefenwedstrijd,Uit Wedstrijden
ATTACH;FMTTYPE=image/webp:https://baseball.be/wp-content/uploads/2024/03/competition2-e1709664655541.webp
ORGANIZER;CN="Sharks Tongeren":MAILTO:info@sharks.be
END:VEVENT
BEGIN:VEVENT
DTSTART;TZID=Europe/Brussels:20250329T100000
DTEND;TZID=Europe/Brussels:20250329T180000
DTSTAMP:20260425T164217
CREATED:20250203T143018Z
LAST-MODIFIED:20250320T204421Z
UID:206079-1743242400-1743271200@baseball.be
SUMMARY:Sharks Toernooi (thuis) : Liege Rebels D3 - Sunville Tigers - Tongeren Sharks
DESCRIPTION:Speelschema (Wedstrijden 1u30 –  1u45 max) \n\n10u : Sunville Tigers – SHARKS\n         (Umpire : Sharks)\n\n12u : Liege – Sunville Tigeres\n         (Umpire : Sharks)\n\n14u30 : Sharks – Liege\n         (Umpire : Sharks)\n\n16u : Start of the ‘after’ …\n\n\nMerch\, drinks and hot-dogs available !
URL:https://baseball.be/event/2025-sharks-toernooi-thuis-andenne-black-bears-namur-seraing-brown-boys-tongeren-sharks/
LOCATION:Sharks Tongeren\, Klein veldje 1\, Tongeren\, Limburg\, 3700\, België
CATEGORIES:Thuis Wedstrijden,Toernooi
ATTACH;FMTTYPE=image/webp:https://baseball.be/wp-content/uploads/2024/03/tournament-1-e1709666011354.webp
ORGANIZER;CN="Sharks Tongeren":MAILTO:info@sharks.be
END:VEVENT
BEGIN:VEVENT
DTSTART;TZID=Europe/Brussels:20250323T100000
DTEND;TZID=Europe/Brussels:20250323T180000
DTSTAMP:20260425T164217
CREATED:20250203T141753Z
LAST-MODIFIED:20250226T195857Z
UID:206074-1742724000-1742752800@baseball.be
SUMMARY:Sharks Toernooi (thuis) : Heist-op-den-Berg Afterburners - Leuven Twins - Sunville Tigers - Tongeren Sharks
DESCRIPTION:Speelschema (Wedstrijden 45 min –  60 min max) \n\n10h00 : Leuven – Sunville\n             (Umpire : Sharks)\n\n11h15 : Heist – Sharks\n            (Umpire : Leuven)\n\n12h30 : Leuven – Heist\n             (Umpire : Sharks)\n\n13h45 : Sunville – Sharks\n             (Umpire : Heist)\n\n15h00 : Sharks – Leuven\n             (Umpire : Sunville)\n\n16h15 : Sunville – Heist\n             (Umpire : Sharks)\n\n18h00 : Start of the ‘after’ …\n\n\nMerch\, drinks and hot-dogs available !
URL:https://baseball.be/event/2025-sharks-toernooi-thuis-heist-op-den-bergafterburners-leuventwins-sunvilletigers-tongerensharks/
LOCATION:Sharks Tongeren\, Klein veldje 1\, Tongeren\, Limburg\, 3700\, België
CATEGORIES:Thuis Wedstrijden,Toernooi
ATTACH;FMTTYPE=image/webp:https://baseball.be/wp-content/uploads/2024/03/tournament-1-e1709666011354.webp
ORGANIZER;CN="Sharks Tongeren":MAILTO:info@sharks.be
END:VEVENT
BEGIN:VEVENT
DTSTART;TZID=Europe/Brussels:20241006T133000
DTEND;TZID=Europe/Brussels:20241006T160000
DTSTAMP:20260425T164217
CREATED:20240306T212339Z
LAST-MODIFIED:20240917T140931Z
UID:205828-1728221400-1728230400@baseball.be
SUMMARY:SHARKS - Sunville Tigers
DESCRIPTION:Merch & Food\n \nFrisdrank en hot-dogs for sale!
URL:https://baseball.be/event/sharks-sunville-tigers-game2/
LOCATION:Sharks Tongeren\, Klein veldje 1\, Tongeren\, Limburg\, 3700\, België
CATEGORIES:Thuis Wedstrijden
ATTACH;FMTTYPE=image/webp:https://baseball.be/wp-content/uploads/2024/03/competition2-e1709664655541.webp
ORGANIZER;CN="Sharks Tongeren":MAILTO:info@sharks.be
END:VEVENT
BEGIN:VEVENT
DTSTART;TZID=Europe/Brussels:20240929T133000
DTEND;TZID=Europe/Brussels:20240929T160000
DTSTAMP:20260425T164217
CREATED:20240306T212517Z
LAST-MODIFIED:20240327T133637Z
UID:205832-1727616600-1727625600@baseball.be
SUMMARY:SHARKS - Limburg White Sox
DESCRIPTION:Merch & Food\n \nFrisdrank en hot-dogs for sale!
URL:https://baseball.be/event/sharks-limburg-white-sox-game2/
LOCATION:Sharks Tongeren\, Klein veldje 1\, Tongeren\, Limburg\, 3700\, België
CATEGORIES:Thuis Wedstrijden
ATTACH;FMTTYPE=image/webp:https://baseball.be/wp-content/uploads/2024/03/competition2-e1709664655541.webp
ORGANIZER;CN="Sharks Tongeren":MAILTO:info@sharks.be
END:VEVENT
BEGIN:VEVENT
DTSTART;TZID=Europe/Brussels:20240922T110000
DTEND;TZID=Europe/Brussels:20240922T133000
DTSTAMP:20260425T164217
CREATED:20240305T201029Z
LAST-MODIFIED:20240917T140851Z
UID:205754-1727002800-1727011800@baseball.be
SUMMARY:Sittard Condors - SHARKS
DESCRIPTION:
URL:https://baseball.be/event/sittard-condors-sharks-game2/
LOCATION:Sittard Condors\, Sportpark Limbricht\, Limbricht\, Nederland
CATEGORIES:Uit Wedstrijden
ATTACH;FMTTYPE=image/webp:https://baseball.be/wp-content/uploads/2024/03/competition2-e1709664655541.webp
END:VEVENT
BEGIN:VEVENT
DTSTART;TZID=Europe/Brussels:20240908T110000
DTEND;TZID=Europe/Brussels:20240908T133000
DTSTAMP:20260425T164217
CREATED:20240306T212251Z
LAST-MODIFIED:20240327T133857Z
UID:205826-1725793200-1725802200@baseball.be
SUMMARY:Maastricht H2 - SHARKS
DESCRIPTION:
URL:https://baseball.be/event/maastricht-h2-sharks-game2/
LOCATION:Maastricht\, Sportpark West\, Maastricht\, Nederland
CATEGORIES:Uit Wedstrijden
ATTACH;FMTTYPE=image/webp:https://baseball.be/wp-content/uploads/2024/03/competition2-e1709664655541.webp
END:VEVENT
END:VCALENDAR