BEGIN:VCALENDAR
VERSION:2.0
PRODID:-//Baseball.be | Sharks Tongeren - ECPv6.15.20//NONSGML v1.0//EN
CALSCALE:GREGORIAN
METHOD:PUBLISH
X-WR-CALNAME:Baseball.be | Sharks Tongeren
X-ORIGINAL-URL:https://baseball.be
X-WR-CALDESC:Evenementen voor Baseball.be | Sharks Tongeren
REFRESH-INTERVAL;VALUE=DURATION:PT1H
X-Robots-Tag:noindex
X-PUBLISHED-TTL:PT1H
BEGIN:VTIMEZONE
TZID:Europe/Brussels
BEGIN:DAYLIGHT
TZOFFSETFROM:+0100
TZOFFSETTO:+0200
TZNAME:CEST
DTSTART:20250330T010000
END:DAYLIGHT
BEGIN:STANDARD
TZOFFSETFROM:+0200
TZOFFSETTO:+0100
TZNAME:CET
DTSTART:20251026T010000
END:STANDARD
BEGIN:DAYLIGHT
TZOFFSETFROM:+0100
TZOFFSETTO:+0200
TZNAME:CEST
DTSTART:20260329T010000
END:DAYLIGHT
BEGIN:STANDARD
TZOFFSETFROM:+0200
TZOFFSETTO:+0100
TZNAME:CET
DTSTART:20261025T010000
END:STANDARD
BEGIN:DAYLIGHT
TZOFFSETFROM:+0100
TZOFFSETTO:+0200
TZNAME:CEST
DTSTART:20270328T010000
END:DAYLIGHT
BEGIN:STANDARD
TZOFFSETFROM:+0200
TZOFFSETTO:+0100
TZNAME:CET
DTSTART:20271031T010000
END:STANDARD
END:VTIMEZONE
BEGIN:VEVENT
DTSTART;TZID=Europe/Brussels:20260426T133000
DTEND;TZID=Europe/Brussels:20260426T160000
DTSTAMP:20260425T151755
CREATED:20260316T214120Z
LAST-MODIFIED:20260316T214120Z
UID:206649-1777210200-1777219200@baseball.be
SUMMARY:SHARKS - Cheetahs H2
DESCRIPTION:Merch & Food\n \nFrisdrank en hot-dogs for sale!
URL:https://baseball.be/event/sharks-cheetahs-h2-4/
LOCATION:Sharks Tongeren\, Klein veldje 1\, Tongeren\, Limburg\, 3700\, België
CATEGORIES:Thuis Wedstrijden
ATTACH;FMTTYPE=image/webp:https://baseball.be/wp-content/uploads/2024/03/competition2-e1709664655541.webp
ORGANIZER;CN="Sharks Tongeren":MAILTO:info@sharks.be
END:VEVENT
BEGIN:VEVENT
DTSTART;TZID=Europe/Brussels:20260503T133000
DTEND;TZID=Europe/Brussels:20260503T160000
DTSTAMP:20260425T151755
CREATED:20260316T215026Z
LAST-MODIFIED:20260316T215026Z
UID:206663-1777815000-1777824000@baseball.be
SUMMARY:SHARKS - Maastricht H2
DESCRIPTION:Merch & Food\n \nFrisdrank en hot-dogs for sale!
URL:https://baseball.be/event/sharks-maastricht-h2-2/
LOCATION:Sharks Tongeren\, Klein veldje 1\, Tongeren\, Limburg\, 3700\, België
CATEGORIES:Thuis Wedstrijden
ATTACH;FMTTYPE=image/webp:https://baseball.be/wp-content/uploads/2024/03/competition2-e1709664655541.webp
ORGANIZER;CN="Sharks Tongeren":MAILTO:info@sharks.be
END:VEVENT
BEGIN:VEVENT
DTSTART;TZID=Europe/Brussels:20260510T110000
DTEND;TZID=Europe/Brussels:20260510T133000
DTSTAMP:20260425T151755
CREATED:20260316T215647Z
LAST-MODIFIED:20260316T215647Z
UID:206671-1778410800-1778419800@baseball.be
SUMMARY:Limburg White Sox - SHARKS
DESCRIPTION:
URL:https://baseball.be/event/limburg-white-sox-sharks-3/
LOCATION:Limburg White Sox\, Hortensiastraat\, Genk
CATEGORIES:Uit Wedstrijden
ATTACH;FMTTYPE=image/webp:https://baseball.be/wp-content/uploads/2024/03/competition2-e1709664655541.webp
END:VEVENT
BEGIN:VEVENT
DTSTART;TZID=Europe/Brussels:20260517T103000
DTEND;TZID=Europe/Brussels:20260517T130000
DTSTAMP:20260425T151755
CREATED:20260316T215817Z
LAST-MODIFIED:20260316T215817Z
UID:206673-1779013800-1779022800@baseball.be
SUMMARY:Cheetahs H2 - SHARKS
DESCRIPTION:
URL:https://baseball.be/event/cheetahs-h2-sharks-3/
LOCATION:Cheetahs Beek\, Sportlaan\, Beek\, Nederland
CATEGORIES:Uit Wedstrijden
ATTACH;FMTTYPE=image/webp:https://baseball.be/wp-content/uploads/2024/03/competition2-e1709664655541.webp
END:VEVENT
BEGIN:VEVENT
DTSTART;TZID=Europe/Brussels:20260531T133000
DTEND;TZID=Europe/Brussels:20260531T160000
DTSTAMP:20260425T151755
CREATED:20260316T214248Z
LAST-MODIFIED:20260316T214248Z
UID:206651-1780234200-1780243200@baseball.be
SUMMARY:SHARKS - Parkstad Lions
DESCRIPTION:Merch & Food\n \nFrisdrank en hot-dogs for sale!
URL:https://baseball.be/event/sharks-parkstad-lions-3/
LOCATION:Sharks Tongeren\, Klein veldje 1\, Tongeren\, Limburg\, 3700\, België
CATEGORIES:Thuis Wedstrijden
ATTACH;FMTTYPE=image/webp:https://baseball.be/wp-content/uploads/2024/03/competition2-e1709664655541.webp
ORGANIZER;CN="Sharks Tongeren":MAILTO:info@sharks.be
END:VEVENT
BEGIN:VEVENT
DTSTART;TZID=Europe/Brussels:20260614T110000
DTEND;TZID=Europe/Brussels:20260614T133000
DTSTAMP:20260425T151755
CREATED:20260316T220105Z
LAST-MODIFIED:20260316T220407Z
UID:206675-1781434800-1781443800@baseball.be
SUMMARY:Maastricht H2 - SHARKS
DESCRIPTION:
URL:https://baseball.be/event/maastricht-h2-sharks-2/
LOCATION:Maastricht\, Sportpark West\, Maastricht\, Nederland
CATEGORIES:Uit Wedstrijden
ATTACH;FMTTYPE=image/webp:https://baseball.be/wp-content/uploads/2024/03/competition2-e1709664655541.webp
END:VEVENT
BEGIN:VEVENT
DTSTART;TZID=Europe/Brussels:20260621T133000
DTEND;TZID=Europe/Brussels:20260621T160000
DTSTAMP:20260425T151755
CREATED:20260316T214549Z
LAST-MODIFIED:20260316T214549Z
UID:206655-1782048600-1782057600@baseball.be
SUMMARY:SHARKS - Limburg White Sox
DESCRIPTION:Merch & Food\n \nFrisdrank en hot-dogs for sale!
URL:https://baseball.be/event/sharks-limburg-white-sox-4/
LOCATION:Sharks Tongeren\, Klein veldje 1\, Tongeren\, Limburg\, 3700\, België
CATEGORIES:Thuis Wedstrijden
ATTACH;FMTTYPE=image/webp:https://baseball.be/wp-content/uploads/2024/03/competition2-e1709664655541.webp
ORGANIZER;CN="Sharks Tongeren":MAILTO:info@sharks.be
END:VEVENT
BEGIN:VEVENT
DTSTART;TZID=Europe/Brussels:20260628T120000
DTEND;TZID=Europe/Brussels:20260628T143000
DTSTAMP:20260425T151755
CREATED:20260316T220338Z
LAST-MODIFIED:20260316T220338Z
UID:206677-1782648000-1782657000@baseball.be
SUMMARY:Parkstad Lions - SHARKS
DESCRIPTION:
URL:https://baseball.be/event/parkstad-lions-sharks-5/
LOCATION:Parkstad Lions\, Sportpark De Vaerenbeuk\, Heerlen\, Nederland
CATEGORIES:Uit Wedstrijden
ATTACH;FMTTYPE=image/webp:https://baseball.be/wp-content/uploads/2024/03/competition2-e1709664655541.webp
END:VEVENT
BEGIN:VEVENT
DTSTART;TZID=Europe/Brussels:20260705T133000
DTEND;TZID=Europe/Brussels:20260705T160000
DTSTAMP:20260425T151755
CREATED:20260316T220605Z
LAST-MODIFIED:20260324T093435Z
UID:206679-1783258200-1783267200@baseball.be
SUMMARY:Sittard Condors - SHARKS
DESCRIPTION:
URL:https://baseball.be/event/sittard-condors-sharks-4/
LOCATION:Sittard Condors\, Sportpark Limbricht\, Limbricht\, Nederland
CATEGORIES:Uit Wedstrijden
ATTACH;FMTTYPE=image/webp:https://baseball.be/wp-content/uploads/2024/03/competition2-e1709664655541.webp
END:VEVENT
BEGIN:VEVENT
DTSTART;TZID=Europe/Brussels:20260712T133000
DTEND;TZID=Europe/Brussels:20260712T160000
DTSTAMP:20260425T151755
CREATED:20260316T215124Z
LAST-MODIFIED:20260316T215124Z
UID:206665-1783863000-1783872000@baseball.be
SUMMARY:SHARKS - Maastricht H2
DESCRIPTION:Merch & Food\n \nFrisdrank en hot-dogs for sale!
URL:https://baseball.be/event/sharks-maastricht-h2-3/
LOCATION:Sharks Tongeren\, Klein veldje 1\, Tongeren\, Limburg\, 3700\, België
CATEGORIES:Thuis Wedstrijden
ATTACH;FMTTYPE=image/webp:https://baseball.be/wp-content/uploads/2024/03/competition2-e1709664655541.webp
ORGANIZER;CN="Sharks Tongeren":MAILTO:info@sharks.be
END:VEVENT
BEGIN:VEVENT
DTSTART;TZID=Europe/Brussels:20260823T133000
DTEND;TZID=Europe/Brussels:20260823T160000
DTSTAMP:20260425T151755
CREATED:20260316T214432Z
LAST-MODIFIED:20260318T221148Z
UID:206653-1787491800-1787500800@baseball.be
SUMMARY:SHARKS - Sittard Condors
DESCRIPTION:Merch & Food\n \nFrisdrank en hot-dogs for sale!
URL:https://baseball.be/event/sharks-sittard-condors-4/
LOCATION:Sharks Tongeren\, Klein veldje 1\, Tongeren\, Limburg\, 3700\, België
CATEGORIES:Thuis Wedstrijden
ATTACH;FMTTYPE=image/webp:https://baseball.be/wp-content/uploads/2024/03/competition2-e1709664655541.webp
ORGANIZER;CN="Sharks Tongeren":MAILTO:info@sharks.be
END:VEVENT
BEGIN:VEVENT
DTSTART;TZID=Europe/Brussels:20260830T110000
DTEND;TZID=Europe/Brussels:20260830T133000
DTSTAMP:20260425T151755
CREATED:20260316T220654Z
LAST-MODIFIED:20260316T220654Z
UID:206681-1788087600-1788096600@baseball.be
SUMMARY:Limburg White Sox - SHARKS
DESCRIPTION:
URL:https://baseball.be/event/limburg-white-sox-sharks-4/
LOCATION:Limburg White Sox\, Hortensiastraat\, Genk
CATEGORIES:Uit Wedstrijden
ATTACH;FMTTYPE=image/webp:https://baseball.be/wp-content/uploads/2024/03/competition2-e1709664655541.webp
END:VEVENT
BEGIN:VEVENT
DTSTART;TZID=Europe/Brussels:20260906T103000
DTEND;TZID=Europe/Brussels:20260906T130000
DTSTAMP:20260425T151755
CREATED:20260316T220752Z
LAST-MODIFIED:20260316T220831Z
UID:206683-1788690600-1788699600@baseball.be
SUMMARY:Cheetahs H2 - SHARKS
DESCRIPTION:
URL:https://baseball.be/event/cheetahs-h2-sharks-4/
LOCATION:Cheetahs Beek\, Sportlaan\, Beek\, Nederland
CATEGORIES:Uit Wedstrijden
ATTACH;FMTTYPE=image/webp:https://baseball.be/wp-content/uploads/2024/03/competition2-e1709664655541.webp
END:VEVENT
BEGIN:VEVENT
DTSTART;TZID=Europe/Brussels:20260913T133000
DTEND;TZID=Europe/Brussels:20260913T160000
DTSTAMP:20260425T151755
CREATED:20260316T214649Z
LAST-MODIFIED:20260316T214649Z
UID:206657-1789306200-1789315200@baseball.be
SUMMARY:SHARKS - Parkstad Lions
DESCRIPTION:Merch & Food\n \nFrisdrank en hot-dogs for sale!
URL:https://baseball.be/event/sharks-parkstad-lions-4/
LOCATION:Sharks Tongeren\, Klein veldje 1\, Tongeren\, Limburg\, 3700\, België
CATEGORIES:Thuis Wedstrijden
ATTACH;FMTTYPE=image/webp:https://baseball.be/wp-content/uploads/2024/03/competition2-e1709664655541.webp
ORGANIZER;CN="Sharks Tongeren":MAILTO:info@sharks.be
END:VEVENT
BEGIN:VEVENT
DTSTART;TZID=Europe/Brussels:20260920T133000
DTEND;TZID=Europe/Brussels:20260920T160000
DTSTAMP:20260425T151755
CREATED:20260316T214821Z
LAST-MODIFIED:20260316T214821Z
UID:206659-1789911000-1789920000@baseball.be
SUMMARY:SHARKS - Sittard Condors
DESCRIPTION:Merch & Food\n \nFrisdrank en hot-dogs for sale!
URL:https://baseball.be/event/sharks-sittard-condors-5/
LOCATION:Sharks Tongeren\, Klein veldje 1\, Tongeren\, Limburg\, 3700\, België
CATEGORIES:Thuis Wedstrijden
ATTACH;FMTTYPE=image/webp:https://baseball.be/wp-content/uploads/2024/03/competition2-e1709664655541.webp
ORGANIZER;CN="Sharks Tongeren":MAILTO:info@sharks.be
END:VEVENT
BEGIN:VEVENT
DTSTART;TZID=Europe/Brussels:20260927T133000
DTEND;TZID=Europe/Brussels:20260927T160000
DTSTAMP:20260425T151755
CREATED:20260316T214923Z
LAST-MODIFIED:20260316T214923Z
UID:206661-1790515800-1790524800@baseball.be
SUMMARY:SHARKS - Cheetahs H2
DESCRIPTION:Merch & Food\n \nFrisdrank en hot-dogs for sale!
URL:https://baseball.be/event/sharks-cheetahs-h2-5/
LOCATION:Sharks Tongeren\, Klein veldje 1\, Tongeren\, Limburg\, 3700\, België
CATEGORIES:Thuis Wedstrijden
ATTACH;FMTTYPE=image/webp:https://baseball.be/wp-content/uploads/2024/03/competition2-e1709664655541.webp
ORGANIZER;CN="Sharks Tongeren":MAILTO:info@sharks.be
END:VEVENT
END:VCALENDAR