BEGIN:VCALENDAR
VERSION:2.0
PRODID:-//Baseball.be | Sharks Tongeren - ECPv6.15.20//NONSGML v1.0//EN
CALSCALE:GREGORIAN
METHOD:PUBLISH
X-WR-CALNAME:Baseball.be | Sharks Tongeren
X-ORIGINAL-URL:https://baseball.be
X-WR-CALDESC:Evenementen voor Baseball.be | Sharks Tongeren
REFRESH-INTERVAL;VALUE=DURATION:PT1H
X-Robots-Tag:noindex
X-PUBLISHED-TTL:PT1H
BEGIN:VTIMEZONE
TZID:Europe/Brussels
BEGIN:DAYLIGHT
TZOFFSETFROM:+0100
TZOFFSETTO:+0200
TZNAME:CEST
DTSTART:20230326T010000
END:DAYLIGHT
BEGIN:STANDARD
TZOFFSETFROM:+0200
TZOFFSETTO:+0100
TZNAME:CET
DTSTART:20231029T010000
END:STANDARD
BEGIN:DAYLIGHT
TZOFFSETFROM:+0100
TZOFFSETTO:+0200
TZNAME:CEST
DTSTART:20240331T010000
END:DAYLIGHT
BEGIN:STANDARD
TZOFFSETFROM:+0200
TZOFFSETTO:+0100
TZNAME:CET
DTSTART:20241027T010000
END:STANDARD
BEGIN:DAYLIGHT
TZOFFSETFROM:+0100
TZOFFSETTO:+0200
TZNAME:CEST
DTSTART:20250330T010000
END:DAYLIGHT
BEGIN:STANDARD
TZOFFSETFROM:+0200
TZOFFSETTO:+0100
TZNAME:CET
DTSTART:20251026T010000
END:STANDARD
END:VTIMEZONE
BEGIN:VEVENT
DTSTART;TZID=Europe/Brussels:20240609T133000
DTEND;TZID=Europe/Brussels:20240609T160000
DTSTAMP:20260426T031237
CREATED:20240306T210414Z
LAST-MODIFIED:20240327T132404Z
UID:205796-1717939800-1717948800@baseball.be
SUMMARY:SHARKS - Maastricht H2
DESCRIPTION:Merch & Food\n \nFrisdrank en hot-dogs for sale!
URL:https://baseball.be/event/sharks-maastricht-h2/
LOCATION:Sharks Tongeren\, Klein veldje 1\, Tongeren\, Limburg\, 3700\, België
CATEGORIES:Thuis Wedstrijden
ATTACH;FMTTYPE=image/webp:https://baseball.be/wp-content/uploads/2024/03/competition2-e1709664655541.webp
ORGANIZER;CN="Sharks Tongeren":MAILTO:info@sharks.be
END:VEVENT
BEGIN:VEVENT
DTSTART;TZID=Europe/Brussels:20240602T103000
DTEND;TZID=Europe/Brussels:20240602T130000
DTSTAMP:20260426T031237
CREATED:20240306T212204Z
LAST-MODIFIED:20240327T135408Z
UID:205824-1717324200-1717333200@baseball.be
SUMMARY:Indians H2 - SHARKS
DESCRIPTION:
URL:https://baseball.be/event/indians-h2-sharks/
LOCATION:Indians Weert\, Vrakkerveld 9\, Weert\, Limburg\, 6002 AZ\, Nederland
CATEGORIES:Uit Wedstrijden
ATTACH;FMTTYPE=image/webp:https://baseball.be/wp-content/uploads/2024/03/competition2-e1709664655541.webp
END:VEVENT
BEGIN:VEVENT
DTSTART;TZID=Europe/Brussels:20240526T120000
DTEND;TZID=Europe/Brussels:20240526T143000
DTSTAMP:20260426T031237
CREATED:20240306T210047Z
LAST-MODIFIED:20240327T135332Z
UID:205792-1716724800-1716733800@baseball.be
SUMMARY:Parkstad Lions - SHARKS
DESCRIPTION:
URL:https://baseball.be/event/parkstad-lions-sharks/
LOCATION:Parkstad Lions\, Sportpark De Vaerenbeuk\, Heerlen\, Nederland
CATEGORIES:Uit Wedstrijden
ATTACH;FMTTYPE=image/webp:https://baseball.be/wp-content/uploads/2024/03/competition2-e1709664655541.webp
END:VEVENT
BEGIN:VEVENT
DTSTART;VALUE=DATE:20240519
DTEND;VALUE=DATE:20240520
DTSTAMP:20260426T031237
CREATED:20240306T205637Z
LAST-MODIFIED:20240327T135247Z
UID:205788-1716076800-1716163199@baseball.be
SUMMARY:Sharks - No Gameday
DESCRIPTION:Sharks – No Gameday
URL:https://baseball.be/event/sharks-no-gameday/
LOCATION:Sharks Tongeren\, Klein veldje 1\, Tongeren\, Limburg\, 3700\, België
CATEGORIES:No Gameday
ATTACH;FMTTYPE=image/webp:https://baseball.be/wp-content/uploads/2024/03/No-game-e1709754959110.webp
ORGANIZER;CN="Sharks Tongeren":MAILTO:info@sharks.be
END:VEVENT
BEGIN:VEVENT
DTSTART;TZID=Europe/Brussels:20240512T103000
DTEND;TZID=Europe/Brussels:20240512T130000
DTSTAMP:20260426T031237
CREATED:20240306T205201Z
LAST-MODIFIED:20240327T135706Z
UID:205786-1715509800-1715518800@baseball.be
SUMMARY:Cheetahs H2 - SHARKS
DESCRIPTION:
URL:https://baseball.be/event/cheetahs-h2-sharks/
LOCATION:Cheetahs Beek\, Sportlaan\, Beek\, Nederland
CATEGORIES:Uit Wedstrijden
ATTACH;FMTTYPE=image/webp:https://baseball.be/wp-content/uploads/2024/03/competition2-e1709664655541.webp
END:VEVENT
BEGIN:VEVENT
DTSTART;TZID=Europe/Brussels:20240505T133000
DTEND;TZID=Europe/Brussels:20240505T160000
DTSTAMP:20260426T031237
CREATED:20240306T204956Z
LAST-MODIFIED:20240327T142846Z
UID:205783-1714915800-1714924800@baseball.be
SUMMARY:SHARKS - Limburg White Sox
DESCRIPTION:Merch & Food\n \nFrisdrank en hot-dogs for sale!
URL:https://baseball.be/event/sharks-limburg-white-sox/
LOCATION:Sharks Tongeren\, Klein veldje 1\, Tongeren\, Limburg\, 3700\, België
CATEGORIES:Thuis Wedstrijden
ATTACH;FMTTYPE=image/webp:https://baseball.be/wp-content/uploads/2024/03/competition2-e1709664655541.webp
ORGANIZER;CN="Sharks Tongeren":MAILTO:info@sharks.be
END:VEVENT
BEGIN:VEVENT
DTSTART;TZID=Europe/Brussels:20240428T140000
DTEND;TZID=Europe/Brussels:20240428T163000
DTSTAMP:20260426T031237
CREATED:20240306T204434Z
LAST-MODIFIED:20240327T133012Z
UID:205781-1714312800-1714321800@baseball.be
SUMMARY:Sittard Condors - SHARKS
DESCRIPTION:
URL:https://baseball.be/event/sittard-condors-sharks/
LOCATION:Sittard Condors\, Sportpark Limbricht\, Limbricht\, Nederland
CATEGORIES:Uit Wedstrijden
ATTACH;FMTTYPE=image/webp:https://baseball.be/wp-content/uploads/2024/03/competition2-e1709664655541.webp
END:VEVENT
BEGIN:VEVENT
DTSTART;TZID=Europe/Brussels:20240421T110000
DTEND;TZID=Europe/Brussels:20240421T133000
DTSTAMP:20260426T031237
CREATED:20240303T175647Z
LAST-MODIFIED:20240327T132803Z
UID:205759-1713697200-1713706200@baseball.be
SUMMARY:Sunville Tigers - SHARKS
DESCRIPTION:
URL:https://baseball.be/event/sunville-tigers-sharks/
LOCATION:Sunville Tigers\, Kleebergweg 26\, Zonhoven\, 3520\, België
CATEGORIES:Uit Wedstrijden
ATTACH;FMTTYPE=image/webp:https://baseball.be/wp-content/uploads/2024/03/competition2-e1709664655541.webp
ORGANIZER;CN="Sharks Tongeren":MAILTO:info@sharks.be
END:VEVENT
BEGIN:VEVENT
DTSTART;TZID=Europe/Brussels:20240414T110000
DTEND;TZID=Europe/Brussels:20240414T133000
DTSTAMP:20260426T031237
CREATED:20240303T175352Z
LAST-MODIFIED:20240327T133056Z
UID:205757-1713092400-1713101400@baseball.be
SUMMARY:Maastricht H2 - SHARKS
DESCRIPTION:
URL:https://baseball.be/event/maastricht-h2-sharks/
LOCATION:Maastricht\, Sportpark West\, Maastricht\, Nederland
CATEGORIES:Uit Wedstrijden
ATTACH;FMTTYPE=image/webp:https://baseball.be/wp-content/uploads/2024/03/competition2-e1709664655541.webp
END:VEVENT
BEGIN:VEVENT
DTSTART;VALUE=DATE:20240406
DTEND;VALUE=DATE:20240408
DTSTAMP:20260426T031237
CREATED:20240303T174002Z
LAST-MODIFIED:20240327T143112Z
UID:205747-1712361600-1712534399@baseball.be
SUMMARY:Jakma toernooi Cuijk
DESCRIPTION:Deelnemende teams :\n\n\n\nLocatie Cuijk\nBullfighters Cuijk organiseren dé seizoensopener van 2024: het jaarlijkse internationale tweedaagse Jakma toernooi\, op zaterdag 6 en zondag 7 April 2024! \nHet is een gezellige opening van het Honk- en Softbal seizoen. \nEr zal een mini Honk- en Softbal competitie worden gespeeld met 2-3 wedstrijden per dag op zaterdag en zondag. Op de zaterdag is er tevens een luxe BBQ en feestavond voor de teams. \nKosten voor de BBQ = €17\,50 PP. Ook is overnachting + ontbijt mogelijk. Dit kan \nin de scouting accommodatie op slechts 200m afstand. Maar vraag hier op tijd naar! \nHeeft u een honkbal team die 3e-5e  klasse spelen? Twijfel dan niet en schrijf u vast in. Naast het honkbal worden er ook softbal wedstrijden gespeeld. Heeft u teams die bij damessoftbal 3e-5e klasse spelen (slow/fast pitch). Twijfel dan niet en schrijf u vast in. Bij softbal zijn mixed teams mogelijk! Mits in eerlijke / sportieve verhouding. Mocht je nog andere teams kennen die op zoek zijn naar een gezellig en sportief toernooi\, stuur de mail dan vooral door.
URL:https://baseball.be/event/jakma-toernooi-cuijk/
LOCATION:Limburg
CATEGORIES:Toernooi,Uit Wedstrijden
ATTACH;FMTTYPE=image/jpeg:https://baseball.be/wp-content/uploads/2024/03/Poster-Jakma-2024-NL-A3-e1709757986624.jpg
ORGANIZER;CN="Sportlaan 1%2C 5431 AP Cuijk":MAILTO:toernooi.bullfighters@gmail.com
END:VEVENT
BEGIN:VEVENT
DTSTART;TZID=Europe/Brussels:20240330T100000
DTEND;TZID=Europe/Brussels:20240330T180000
DTSTAMP:20260426T031237
CREATED:20240307T064611Z
LAST-MODIFIED:20240327T143207Z
UID:205842-1711792800-1711821600@baseball.be
SUMMARY:Sharks Toernooi (thuis) : Heist-op-den-Berg Afterburners\, Leuven Twins\, Limburg White Sox\, Tongeren Sharks
DESCRIPTION:Speelschema (Wedstrijden 45 min –  60 min max) \n\n10h00 : White Sox – Twins\n             (Umpire : Sharks)\n\n11h15 : Afterburners – Sharks\n             (Umpire : White Sox)\n\n12h30 : White Sox – Afterburners\n             (Umpire : Sharks)\n\n13h45 : Twins – Sharks\n             (Umpire : Afterburners)\n\n15h00 : Sharks – White Sox\n             (Umpire : Twins)\n\n16h45 : Twins – Afterburners\n             (Umpire : Sharks)\n\n18h00 : Start of the ‘after’ …\n\n\nMerch\, drinks and hot-dogs available !
URL:https://baseball.be/event/mini-toernooi-thuis-sharks-vs-white-sox-vs-twins-vs-afterburners/
LOCATION:Sharks Tongeren\, Klein veldje 1\, Tongeren\, Limburg\, 3700\, België
CATEGORIES:Thuis Wedstrijden
ATTACH;FMTTYPE=image/webp:https://baseball.be/wp-content/uploads/2024/03/tournament-1-e1709666011354.webp
ORGANIZER;CN="Sharks Tongeren":MAILTO:info@sharks.be
END:VEVENT
BEGIN:VEVENT
DTSTART;TZID=Europe/Brussels:20240324T130000
DTEND;TZID=Europe/Brussels:20240324T170000
DTSTAMP:20260426T031237
CREATED:20240327T084039Z
LAST-MODIFIED:20240327T143547Z
UID:205830-1711285200-1711299600@baseball.be
SUMMARY:_template_competitie_thuis
DESCRIPTION:Sharks vs Team\n\nTongeren | Sharks\nTeam\n\nWedstrijd start\n\n13.00 uur\n\n\nMerch & Food\n \nFrisdrank en hot-dogs for sale!
URL:https://baseball.be/event/_template_competitie_thuis/
LOCATION:Sharks Tongeren\, Klein veldje 1\, Tongeren\, Limburg\, 3700\, België
CATEGORIES:Thuis Wedstrijden
ATTACH;FMTTYPE=image/webp:https://baseball.be/wp-content/uploads/2024/03/competition2-e1709664655541.webp
ORGANIZER;CN="Sharks Tongeren":MAILTO:info@sharks.be
END:VEVENT
BEGIN:VEVENT
DTSTART;TZID=Europe/Brussels:20240324T100000
DTEND;TZID=Europe/Brussels:20240324T180000
DTSTAMP:20260426T031237
CREATED:20240303T172100Z
LAST-MODIFIED:20240327T143359Z
UID:205737-1711274400-1711303200@baseball.be
SUMMARY:Sharks Toernooi (thuis) : Andenne Black Bears - Liege Rebels - Seraing Brown Boys - Tongeren Sharks
DESCRIPTION:Speelschema (Wedstrijden 45 min –  60 min max) \n\n10h00 : Liege – Seraing\n             (Umpire : Sharks)\n\n11h15 : Andenne – Sharks\n            (Umpire : Liege)\n\n12h30 : Liege – Andenne\n             (Umpire : Sharks)\n\n13h45 : Seraing – Sharks\n             (Umpire : Andenne)\n\n15h00 : Sharks – Liege\n             (Umpire : Seraing)\n\n16h45 : Seraing – Andenne\n             (Umpire : Sharks)\n\n18h00 : Start of the ‘after’ …\n\n\nMerch\, drinks and hot-dogs available !
URL:https://baseball.be/event/mini-toernooi-thuis-vanaf-10u-seraing-liege-andenne-sharks/
LOCATION:Sharks Tongeren\, Klein veldje 1\, Tongeren\, Limburg\, 3700\, België
CATEGORIES:Thuis Wedstrijden,Toernooi
ATTACH;FMTTYPE=image/webp:https://baseball.be/wp-content/uploads/2024/03/tournament-1-e1709666011354.webp
ORGANIZER;CN="Sharks Tongeren":MAILTO:info@sharks.be
END:VEVENT
END:VCALENDAR