BEGIN:VCALENDAR
VERSION:2.0
PRODID:-//Baseball.be | Sharks Tongeren - ECPv6.15.20//NONSGML v1.0//EN
CALSCALE:GREGORIAN
METHOD:PUBLISH
X-WR-CALNAME:Baseball.be | Sharks Tongeren
X-ORIGINAL-URL:https://baseball.be
X-WR-CALDESC:Evenementen voor Baseball.be | Sharks Tongeren
REFRESH-INTERVAL;VALUE=DURATION:PT1H
X-Robots-Tag:noindex
X-PUBLISHED-TTL:PT1H
BEGIN:VTIMEZONE
TZID:Europe/Brussels
BEGIN:DAYLIGHT
TZOFFSETFROM:+0100
TZOFFSETTO:+0200
TZNAME:CEST
DTSTART:20250330T010000
END:DAYLIGHT
BEGIN:STANDARD
TZOFFSETFROM:+0200
TZOFFSETTO:+0100
TZNAME:CET
DTSTART:20251026T010000
END:STANDARD
BEGIN:DAYLIGHT
TZOFFSETFROM:+0100
TZOFFSETTO:+0200
TZNAME:CEST
DTSTART:20260329T010000
END:DAYLIGHT
BEGIN:STANDARD
TZOFFSETFROM:+0200
TZOFFSETTO:+0100
TZNAME:CET
DTSTART:20261025T010000
END:STANDARD
BEGIN:DAYLIGHT
TZOFFSETFROM:+0100
TZOFFSETTO:+0200
TZNAME:CEST
DTSTART:20270328T010000
END:DAYLIGHT
BEGIN:STANDARD
TZOFFSETFROM:+0200
TZOFFSETTO:+0100
TZNAME:CET
DTSTART:20271031T010000
END:STANDARD
END:VTIMEZONE
BEGIN:VEVENT
DTSTART;TZID=Europe/Brussels:20260308T220000
DTEND;TZID=Europe/Brussels:20260308T220000
DTSTAMP:20260425T183426
CREATED:20251122T171640Z
LAST-MODIFIED:20251122T171950Z
UID:206608-1773007200-1773007200@baseball.be
SUMMARY:Oefenwedstrijd in Zonhoven : Sunville Tigers - SHARKS
DESCRIPTION:Uur en indeling nog te bepalen.  Oefenwedstrijd of 3-kamp ?
URL:https://baseball.be/event/oefenwedstrijd-in-zonhoven-sunville-tigers-sharks/
LOCATION:Sunville Tigers\, Kleebergweg 26\, Zonhoven\, 3520\, België
CATEGORIES:Oefenwedstrijd,Uit Wedstrijden
ATTACH;FMTTYPE=image/webp:https://baseball.be/wp-content/uploads/2024/03/tournament-1-e1709666011354.webp
END:VEVENT
BEGIN:VEVENT
DTSTART;TZID=Europe/Brussels:20260322T100000
DTEND;TZID=Europe/Brussels:20260322T180000
DTSTAMP:20260425T183426
CREATED:20251119T104159Z
LAST-MODIFIED:20260309T144404Z
UID:206587-1774173600-1774202400@baseball.be
SUMMARY:Sharks Toernooi (thuis) : Namur Angels D2 - Brown Boys Seraing - Titans Olen - SHARKS
DESCRIPTION:Speelschema (Wedstrijden 45 min –  60 min max) \n\n10h00 : Seraing – Namur\n             (Umpire : Sharks)\n\n11h15 : Titans – Sharks\n            (Umpire : Seraing)\n\n12h30 : Seraing – Titans\n             (Umpire : Sharks)\n\n13h45 : Namur – Sharks\n             (Umpire : Titans)\n\n15h00 : Sharks – Seraing\n             (Umpire : Namur)\n\n16h15 : Namur – Titans\n             (Umpire : Sharks)\n\n18h00 : Start of the ‘after’ …\n\n\nMerch\, drinks and hot-dogs available !
URL:https://baseball.be/event/sharks-toernooi-thuis-namur-d2-seraing-sharks/
LOCATION:Sharks Tongeren\, Klein veldje 1\, Tongeren\, Limburg\, 3700\, België
CATEGORIES:Thuis Wedstrijden,Toernooi
ATTACH;FMTTYPE=image/webp:https://baseball.be/wp-content/uploads/2024/03/tournament-1-e1709666011354.webp
ORGANIZER;CN="Sharks Tongeren":MAILTO:info@sharks.be
END:VEVENT
BEGIN:VEVENT
DTSTART;TZID=Europe/Brussels:20260328T100000
DTEND;TZID=Europe/Brussels:20260328T180000
DTSTAMP:20260425T183426
CREATED:20251119T104335Z
LAST-MODIFIED:20260309T144633Z
UID:206589-1774692000-1774720800@baseball.be
SUMMARY:Sharks Toernooi (thuis) : Heist op den Berg Afterburners - Leuven Twins- Limburg White Sox - SHARKS
DESCRIPTION:Speelschema (Wedstrijden 45 min –  60 min max) \n\n10h00 : White Sox – Heist\n             (Umpire : Sharks)\n\n11h15 : Leuven – Sharks\n            (Umpire : White Sox)\n\n12h30 : White Sox – Leuven\n             (Umpire : Sharks)\n\n13h45 : Heist – Sharks\n             (Umpire : Leuven)\n\n15h00 : Sharks –  White Sox\n             (Umpire : Heist)\n\n16h15 : Heist – Leuven\n             (Umpire : Sharks)\n\n18h00 : Start of the ‘after’ …\n\n\nMerch\, drinks and hot-dogs available !
URL:https://baseball.be/event/sharks-toernooi-thuis-sharks/
LOCATION:Sharks Tongeren\, Klein veldje 1\, Tongeren\, Limburg\, 3700\, België
CATEGORIES:Thuis Wedstrijden,Toernooi
ATTACH;FMTTYPE=image/webp:https://baseball.be/wp-content/uploads/2024/03/tournament-1-e1709666011354.webp
ORGANIZER;CN="Sharks Tongeren":MAILTO:info@sharks.be
END:VEVENT
END:VCALENDAR